BEGIN:VCALENDAR
VERSION:2.0
PRODID:-//Center for Research in Security Prices - ECPv6.15.12.2//NONSGML v1.0//EN
CALSCALE:GREGORIAN
METHOD:PUBLISH
X-ORIGINAL-URL:https://www.crsp.org
X-WR-CALDESC:Events for Center for Research in Security Prices
REFRESH-INTERVAL;VALUE=DURATION:PT1H
X-Robots-Tag:noindex
X-PUBLISHED-TTL:PT1H
BEGIN:VTIMEZONE
TZID:America/Chicago
BEGIN:DAYLIGHT
TZOFFSETFROM:-0600
TZOFFSETTO:-0500
TZNAME:CDT
DTSTART:20240310T080000
END:DAYLIGHT
BEGIN:STANDARD
TZOFFSETFROM:-0500
TZOFFSETTO:-0600
TZNAME:CST
DTSTART:20241103T070000
END:STANDARD
BEGIN:DAYLIGHT
TZOFFSETFROM:-0600
TZOFFSETTO:-0500
TZNAME:CDT
DTSTART:20250309T080000
END:DAYLIGHT
BEGIN:STANDARD
TZOFFSETFROM:-0500
TZOFFSETTO:-0600
TZNAME:CST
DTSTART:20251102T070000
END:STANDARD
BEGIN:DAYLIGHT
TZOFFSETFROM:-0600
TZOFFSETTO:-0500
TZNAME:CDT
DTSTART:20260308T080000
END:DAYLIGHT
BEGIN:STANDARD
TZOFFSETFROM:-0500
TZOFFSETTO:-0600
TZNAME:CST
DTSTART:20261101T070000
END:STANDARD
END:VTIMEZONE
BEGIN:VEVENT
DTSTART;VALUE=DATE:20250606
DTEND;VALUE=DATE:20250607
DTSTAMP:20260423T020231
CREATED:20240910T182220Z
LAST-MODIFIED:20250512T111147Z
UID:10000091-1749168000-1749254399@www.crsp.org
SUMMARY:CRSPMI Ranking Date June 2025
DESCRIPTION:CRSPMI Ranking will occur after end of day. \nFor more information\, visit CRSP Market Indexes Methodology. \n 
URL:https://www.crsp.org/event/crspmi-ranking-date-june-2025/
CATEGORIES:CRSPMI Events,CRSPMI Ranking & Reconstitution
END:VEVENT
END:VCALENDAR