BEGIN:VCALENDAR
VERSION:2.0
PRODID:-//Center for Research in Security Prices - ECPv6.15.12.2//NONSGML v1.0//EN
CALSCALE:GREGORIAN
METHOD:PUBLISH
X-WR-CALNAME:Center for Research in Security Prices
X-ORIGINAL-URL:https://www.crsp.org
X-WR-CALDESC:Events for Center for Research in Security Prices
REFRESH-INTERVAL;VALUE=DURATION:PT1H
X-Robots-Tag:noindex
X-PUBLISHED-TTL:PT1H
BEGIN:VTIMEZONE
TZID:America/Chicago
BEGIN:DAYLIGHT
TZOFFSETFROM:-0600
TZOFFSETTO:-0500
TZNAME:CDT
DTSTART:20230312T080000
END:DAYLIGHT
BEGIN:STANDARD
TZOFFSETFROM:-0500
TZOFFSETTO:-0600
TZNAME:CST
DTSTART:20231105T070000
END:STANDARD
BEGIN:DAYLIGHT
TZOFFSETFROM:-0600
TZOFFSETTO:-0500
TZNAME:CDT
DTSTART:20240310T080000
END:DAYLIGHT
BEGIN:STANDARD
TZOFFSETFROM:-0500
TZOFFSETTO:-0600
TZNAME:CST
DTSTART:20241103T070000
END:STANDARD
BEGIN:DAYLIGHT
TZOFFSETFROM:-0600
TZOFFSETTO:-0500
TZNAME:CDT
DTSTART:20250309T080000
END:DAYLIGHT
BEGIN:STANDARD
TZOFFSETFROM:-0500
TZOFFSETTO:-0600
TZNAME:CST
DTSTART:20251102T070000
END:STANDARD
END:VTIMEZONE
BEGIN:VEVENT
DTSTART;VALUE=DATE:20241217
DTEND;VALUE=DATE:20241218
DTSTAMP:20260423T112701
CREATED:20240827T141953Z
LAST-MODIFIED:20240827T141953Z
UID:10000087-1734393600-1734479999@www.crsp.org
SUMMARY:Monthly CRSP US Stock and Indexes Database Release
DESCRIPTION:
URL:https://www.crsp.org/event/monthly-crsp-us-stock-and-indexes-database-release-13/
CATEGORIES:CRSPRDP Events,CRSPRDP Release Dates
END:VEVENT
BEGIN:VEVENT
DTSTART;VALUE=DATE:20241230
DTEND;VALUE=DATE:20241231
DTSTAMP:20260423T112701
CREATED:20240827T141847Z
LAST-MODIFIED:20240827T142223Z
UID:10000085-1735516800-1735603199@www.crsp.org
SUMMARY:Monthly CRSP/Compustat Merged Database Release
DESCRIPTION:
URL:https://www.crsp.org/event/monthly-crsp-compustat-merged-database-release-10/
CATEGORIES:CRSPRDP Events,CRSPRDP Release Dates
END:VEVENT
BEGIN:VEVENT
DTSTART;VALUE=DATE:20241231
DTEND;VALUE=DATE:20250101
DTSTAMP:20260423T112701
CREATED:20240827T141925Z
LAST-MODIFIED:20240827T142207Z
UID:10000086-1735603200-1735689599@www.crsp.org
SUMMARY:Monthly CRSP/Ziman Real Estate Database Release
DESCRIPTION:
URL:https://www.crsp.org/event/monthly-crsp-ziman-real-estate-database-release-10/
CATEGORIES:CRSPRDP Events,CRSPRDP Release Dates
END:VEVENT
END:VCALENDAR