BEGIN:VCALENDAR
VERSION:2.0
PRODID:-//Center for Research in Security Prices - ECPv6.15.12.2//NONSGML v1.0//EN
CALSCALE:GREGORIAN
METHOD:PUBLISH
X-WR-CALNAME:Center for Research in Security Prices
X-ORIGINAL-URL:https://www.crsp.org
X-WR-CALDESC:Events for Center for Research in Security Prices
REFRESH-INTERVAL;VALUE=DURATION:PT1H
X-Robots-Tag:noindex
X-PUBLISHED-TTL:PT1H
BEGIN:VTIMEZONE
TZID:America/Chicago
BEGIN:DAYLIGHT
TZOFFSETFROM:-0600
TZOFFSETTO:-0500
TZNAME:CDT
DTSTART:20240310T080000
END:DAYLIGHT
BEGIN:STANDARD
TZOFFSETFROM:-0500
TZOFFSETTO:-0600
TZNAME:CST
DTSTART:20241103T070000
END:STANDARD
BEGIN:DAYLIGHT
TZOFFSETFROM:-0600
TZOFFSETTO:-0500
TZNAME:CDT
DTSTART:20250309T080000
END:DAYLIGHT
BEGIN:STANDARD
TZOFFSETFROM:-0500
TZOFFSETTO:-0600
TZNAME:CST
DTSTART:20251102T070000
END:STANDARD
BEGIN:DAYLIGHT
TZOFFSETFROM:-0600
TZOFFSETTO:-0500
TZNAME:CDT
DTSTART:20260308T080000
END:DAYLIGHT
BEGIN:STANDARD
TZOFFSETFROM:-0500
TZOFFSETTO:-0600
TZNAME:CST
DTSTART:20261101T070000
END:STANDARD
END:VTIMEZONE
BEGIN:VEVENT
DTSTART;VALUE=DATE:20250131
DTEND;VALUE=DATE:20250201
DTSTAMP:20260423T101138
CREATED:20250113T184829Z
LAST-MODIFIED:20250113T184829Z
UID:10000127-1738281600-1738367999@www.crsp.org
SUMMARY:Quarterly CRSPMI Intraday Database Release
DESCRIPTION:
URL:https://www.crsp.org/event/quarterly-crspmi-intraday-database-release-4/
CATEGORIES:CRSPRDP Events,CRSPRDP Release Dates
END:VEVENT
BEGIN:VEVENT
DTSTART;VALUE=DATE:20250131
DTEND;VALUE=DATE:20250201
DTSTAMP:20260423T101138
CREATED:20250113T184910Z
LAST-MODIFIED:20250113T184910Z
UID:10000128-1738281600-1738367999@www.crsp.org
SUMMARY:Quarterly CRSPMI 2013 Historical Indexes Database Release
DESCRIPTION:
URL:https://www.crsp.org/event/quarterly-crspmi-2013-historical-indexes-database-release-5/
CATEGORIES:CRSPRDP Events,CRSPRDP Release Dates
END:VEVENT
BEGIN:VEVENT
DTSTART;VALUE=DATE:20250131
DTEND;VALUE=DATE:20250201
DTSTAMP:20260423T101138
CREATED:20250113T184938Z
LAST-MODIFIED:20250113T184938Z
UID:10000129-1738281600-1738367999@www.crsp.org
SUMMARY:Quarterly CRSP Survivor-Bias-Free US Mutual Funds Database Release
DESCRIPTION:
URL:https://www.crsp.org/event/quarterly-crsp-survivor-bias-free-us-mutual-funds-database-release-5/
CATEGORIES:CRSPRDP Events,CRSPRDP Release Dates
END:VEVENT
BEGIN:VEVENT
DTSTART;VALUE=DATE:20250131
DTEND;VALUE=DATE:20250201
DTSTAMP:20260423T101138
CREATED:20250113T185018Z
LAST-MODIFIED:20250113T185018Z
UID:10000130-1738281600-1738367999@www.crsp.org
SUMMARY:Quarterly/Annual CRSP US Stock and Indexes Database Release
DESCRIPTION:
URL:https://www.crsp.org/event/quarterly-annual-crsp-us-stock-and-indexes-database-release-2/
CATEGORIES:CRSPRDP Events,CRSPRDP Release Dates
END:VEVENT
BEGIN:VEVENT
DTSTART;VALUE=DATE:20250131
DTEND;VALUE=DATE:20250201
DTSTAMP:20260423T101138
CREATED:20250113T185337Z
LAST-MODIFIED:20250113T185337Z
UID:10000132-1738281600-1738367999@www.crsp.org
SUMMARY:Quarterly CRSP10 Database Release
DESCRIPTION:
URL:https://www.crsp.org/event/quarterly-crsp10-database-release-2/
CATEGORIES:CRSPRDP Events,CRSPRDP Release Dates
END:VEVENT
BEGIN:VEVENT
DTSTART;VALUE=DATE:20250131
DTEND;VALUE=DATE:20250201
DTSTAMP:20260423T101138
CREATED:20250113T185455Z
LAST-MODIFIED:20250113T185455Z
UID:10000133-1738281600-1738367999@www.crsp.org
SUMMARY:Monthly/Quarterly/Annual CRSP/Ziman Real Estate Database Release
DESCRIPTION:
URL:https://www.crsp.org/event/monthly-quarterly-annual-crsp-ziman-real-estate-database-release-2/
CATEGORIES:CRSPRDP Events,CRSPRDP Release Dates
END:VEVENT
BEGIN:VEVENT
DTSTART;VALUE=DATE:20250131
DTEND;VALUE=DATE:20250201
DTSTAMP:20260423T101138
CREATED:20250117T215718Z
LAST-MODIFIED:20250117T215718Z
UID:10000157-1738281600-1738367999@www.crsp.org
SUMMARY:Annual CRSP US Treasury Database Release
DESCRIPTION:
URL:https://www.crsp.org/event/annual-crsp-us-treasury-database-release/
CATEGORIES:CRSPRDP Events,CRSPRDP Release Dates
END:VEVENT
END:VCALENDAR